BEGIN:VCALENDAR
VERSION:2.0
PRODID:-//Protestantse Gemeente te Brouwershaven - ECPv6.8.3//NONSGML v1.0//EN
CALSCALE:GREGORIAN
METHOD:PUBLISH
X-WR-CALNAME:Protestantse Gemeente te Brouwershaven
X-ORIGINAL-URL:https://pkn-brouwershaven.nl
X-WR-CALDESC:Evenementen voor Protestantse Gemeente te Brouwershaven
REFRESH-INTERVAL;VALUE=DURATION:PT1H
X-Robots-Tag:noindex
X-PUBLISHED-TTL:PT1H
BEGIN:VTIMEZONE
TZID:UTC
BEGIN:STANDARD
TZOFFSETFROM:+0000
TZOFFSETTO:+0000
TZNAME:UTC
DTSTART:20210101T000000
END:STANDARD
END:VTIMEZONE
BEGIN:VEVENT
DTSTART;TZID=UTC:20211024T100000
DTEND;TZID=UTC:20211024T103000
DTSTAMP:20260425T215933
CREATED:20210917T162133Z
LAST-MODIFIED:20210917T162210Z
UID:442-1635069600-1635071400@pkn-brouwershaven.nl
SUMMARY:Kerkdienst in De Nicolaas - Ds. Dinie Eerland-v. Vliet
DESCRIPTION:
URL:https://pkn-brouwershaven.nl/event/kerkdienst-in-de-nicolaas-ds-d-eerland-v-vliet/
END:VEVENT
END:VCALENDAR