BEGIN:VCALENDAR
VERSION:2.0
PRODID:-//Protestantse Gemeente te Brouwershaven - ECPv6.8.3//NONSGML v1.0//EN
CALSCALE:GREGORIAN
METHOD:PUBLISH
X-ORIGINAL-URL:https://pkn-brouwershaven.nl
X-WR-CALDESC:Evenementen voor Protestantse Gemeente te Brouwershaven
REFRESH-INTERVAL;VALUE=DURATION:PT1H
X-Robots-Tag:noindex
X-PUBLISHED-TTL:PT1H
BEGIN:VTIMEZONE
TZID:UTC
BEGIN:STANDARD
TZOFFSETFROM:+0000
TZOFFSETTO:+0000
TZNAME:UTC
DTSTART:20210101T000000
END:STANDARD
END:VTIMEZONE
BEGIN:VEVENT
DTSTART;TZID=UTC:20211226T100000
DTEND;TZID=UTC:20211226T110000
DTSTAMP:20260425T003247
CREATED:20211125T160139Z
LAST-MODIFIED:20211125T160139Z
UID:503-1640512800-1640516400@pkn-brouwershaven.nl
SUMMARY:Kerk Dreischor - Gezamenlijke dienst
DESCRIPTION:
URL:https://pkn-brouwershaven.nl/event/kerk-dreischor-gezamenlijke-dienst/
END:VEVENT
END:VCALENDAR