BEGIN:VCALENDAR
VERSION:2.0
PRODID:-//Protestantse Gemeente te Brouwershaven - ECPv6.8.3//NONSGML v1.0//EN
CALSCALE:GREGORIAN
METHOD:PUBLISH
X-WR-CALNAME:Protestantse Gemeente te Brouwershaven
X-ORIGINAL-URL:https://pkn-brouwershaven.nl
X-WR-CALDESC:Evenementen voor Protestantse Gemeente te Brouwershaven
REFRESH-INTERVAL;VALUE=DURATION:PT1H
X-Robots-Tag:noindex
X-PUBLISHED-TTL:PT1H
BEGIN:VTIMEZONE
TZID:UTC
BEGIN:STANDARD
TZOFFSETFROM:+0000
TZOFFSETTO:+0000
TZNAME:UTC
DTSTART:20220101T000000
END:STANDARD
END:VTIMEZONE
BEGIN:VEVENT
DTSTART;TZID=UTC:20220417T100000
DTEND;TZID=UTC:20220417T110000
DTSTAMP:20260424T141534
CREATED:20220322T075430Z
LAST-MODIFIED:20220322T075430Z
UID:545-1650189600-1650193200@pkn-brouwershaven.nl
SUMMARY:Kerkdienst in de Ichthuskerk - Ds. Jan Klijnsma
DESCRIPTION:
URL:https://pkn-brouwershaven.nl/event/kerkdienst-in-de-ichthuskerk-ds-jan-klijnsma-2/
END:VEVENT
END:VCALENDAR