BEGIN:VCALENDAR
VERSION:2.0
PRODID:-//Protestantse Gemeente te Brouwershaven - ECPv6.8.3//NONSGML v1.0//EN
CALSCALE:GREGORIAN
METHOD:PUBLISH
X-WR-CALNAME:Protestantse Gemeente te Brouwershaven
X-ORIGINAL-URL:https://pkn-brouwershaven.nl
X-WR-CALDESC:Evenementen voor Protestantse Gemeente te Brouwershaven
REFRESH-INTERVAL;VALUE=DURATION:PT1H
X-Robots-Tag:noindex
X-PUBLISHED-TTL:PT1H
BEGIN:VTIMEZONE
TZID:UTC
BEGIN:STANDARD
TZOFFSETFROM:+0000
TZOFFSETTO:+0000
TZNAME:UTC
DTSTART:20250101T000000
END:STANDARD
END:VTIMEZONE
BEGIN:VEVENT
DTSTART;TZID=UTC:20251225T100000
DTEND;TZID=UTC:20251225T110000
DTSTAMP:20260422T224755
CREATED:20251002T132516Z
LAST-MODIFIED:20251002T132516Z
UID:1129-1766656800-1766660400@pkn-brouwershaven.nl
SUMMARY:Kerkdienst in de Ichthuskerk - Ds. J. Klijnsma - Brouwershaven
DESCRIPTION:
URL:https://pkn-brouwershaven.nl/event/kerkdienst-in-de-ichthuskerk-ds-j-klijnsma-brouwershaven-2/
LOCATION:Ichthuskerk Brouwershaven
END:VEVENT
BEGIN:VEVENT
DTSTART;TZID=UTC:20251228T100000
DTEND;TZID=UTC:20251228T110000
DTSTAMP:20260422T224755
CREATED:20251002T132656Z
LAST-MODIFIED:20251002T132656Z
UID:1131-1766916000-1766919600@pkn-brouwershaven.nl
SUMMARY:Gezamenlijke dienst in Noordgouwe - Ds. J.F. Klijnsma
DESCRIPTION:
URL:https://pkn-brouwershaven.nl/event/gezamenlijke-dienst-in-noordgouwe-ds-j-f-klijnsma/
LOCATION:Driekoningenkerk Noordgouwe
END:VEVENT
BEGIN:VEVENT
DTSTART;TZID=UTC:20260104T100000
DTEND;TZID=UTC:20260104T110000
DTSTAMP:20260422T224755
CREATED:20251002T132809Z
LAST-MODIFIED:20251002T132915Z
UID:1133-1767520800-1767524400@pkn-brouwershaven.nl
SUMMARY:Kerkdienst in de Ichthuskerk - Mw. L. Bosveld
DESCRIPTION:
URL:https://pkn-brouwershaven.nl/event/kerkdienst-in-de-ichthuskerk-mw-l-bosveld/
LOCATION:Ichthuskerk Brouwershaven
END:VEVENT
BEGIN:VEVENT
DTSTART;TZID=UTC:20260111T100000
DTEND;TZID=UTC:20260111T110000
DTSTAMP:20260422T224755
CREATED:20251002T133028Z
LAST-MODIFIED:20251002T133028Z
UID:1135-1768125600-1768129200@pkn-brouwershaven.nl
SUMMARY:Kerkdienst in de Ichthuskerk - Pastor J. Kooman - Ouwerkerk
DESCRIPTION:
URL:https://pkn-brouwershaven.nl/event/kerkdienst-in-de-ichthuskerk-pastor-j-kooman-ouwerkerk-4/
LOCATION:Ichthuskerk Brouwershaven
END:VEVENT
BEGIN:VEVENT
DTSTART;TZID=UTC:20260118T100000
DTEND;TZID=UTC:20260118T110000
DTSTAMP:20260422T224755
CREATED:20260108T082633Z
LAST-MODIFIED:20260108T082633Z
UID:1140-1768730400-1768734000@pkn-brouwershaven.nl
SUMMARY:Kerkdienst in Zonnemaire - Eenheid van de Christenen
DESCRIPTION:
URL:https://pkn-brouwershaven.nl/event/kerkdienst-in-zonnemaire-eenheid-van-de-christenen/
LOCATION:Zonnemaire
END:VEVENT
BEGIN:VEVENT
DTSTART;TZID=UTC:20260125T100000
DTEND;TZID=UTC:20260125T110000
DTSTAMP:20260422T224755
CREATED:20260108T082833Z
LAST-MODIFIED:20260108T084321Z
UID:1142-1769335200-1769338800@pkn-brouwershaven.nl
SUMMARY:Kerkdienst in de Ichthuskerk - Mw. Lieke Bosveld - Zierikzee
DESCRIPTION:
URL:https://pkn-brouwershaven.nl/event/kerkdienst-in-de-ichthuskerk-mw-l-bosveld-2/
LOCATION:Ichthuskerk Brouwershaven
END:VEVENT
BEGIN:VEVENT
DTSTART;TZID=UTC:20260201T100000
DTEND;TZID=UTC:20260201T110000
DTSTAMP:20260422T224755
CREATED:20260108T082931Z
LAST-MODIFIED:20260108T084148Z
UID:1144-1769940000-1769943600@pkn-brouwershaven.nl
SUMMARY:Kerkdienst in de Ichthuskerk - Ds. Lia Wolters-Berghout
DESCRIPTION:
URL:https://pkn-brouwershaven.nl/event/kerkdienst-in-de-ichthuskerk-ds-l-wolters-berghout/
LOCATION:Ichthuskerk Brouwershaven
END:VEVENT
BEGIN:VEVENT
DTSTART;TZID=UTC:20260208T100000
DTEND;TZID=UTC:20260208T110000
DTSTAMP:20260422T224755
CREATED:20260108T083035Z
LAST-MODIFIED:20260108T084229Z
UID:1146-1770544800-1770548400@pkn-brouwershaven.nl
SUMMARY:Kerkdienst in de Ichthuskerk - Dhr. Rens Stobbelaar - Renesse
DESCRIPTION:
URL:https://pkn-brouwershaven.nl/event/kerkdienst-in-de-ichthuskerk-dhr-l-stobbelaar-renesse/
LOCATION:Ichthuskerk Brouwershaven
END:VEVENT
BEGIN:VEVENT
DTSTART;TZID=UTC:20260215T100000
DTEND;TZID=UTC:20260215T110000
DTSTAMP:20260422T224755
CREATED:20260108T083129Z
LAST-MODIFIED:20260108T084641Z
UID:1148-1771149600-1771153200@pkn-brouwershaven.nl
SUMMARY:Kerkdienst in de Ichthuskerk - Ds. Dinie Eerland - Zierikzee
DESCRIPTION:
URL:https://pkn-brouwershaven.nl/event/kerkdienst-in-de-ichthuskerk-ds-dinie-eerland/
LOCATION:Ichthuskerk Brouwershaven
END:VEVENT
BEGIN:VEVENT
DTSTART;TZID=UTC:20260222T100000
DTEND;TZID=UTC:20260222T110000
DTSTAMP:20260422T224755
CREATED:20260108T083240Z
LAST-MODIFIED:20260108T083240Z
UID:1150-1771754400-1771758000@pkn-brouwershaven.nl
SUMMARY:Kerkdienst in de Ichthuskerk - Ds. Ineke Bakker - Middelharnis
DESCRIPTION:
URL:https://pkn-brouwershaven.nl/event/kerkdienst-in-de-ichthuskerk-ds-ineke-bakker-middelharnis/
LOCATION:Ichthuskerk Brouwershaven
END:VEVENT
BEGIN:VEVENT
DTSTART;TZID=UTC:20260301T100000
DTEND;TZID=UTC:20260301T110000
DTSTAMP:20260422T224755
CREATED:20260108T083347Z
LAST-MODIFIED:20260108T084551Z
UID:1152-1772359200-1772362800@pkn-brouwershaven.nl
SUMMARY:Kerkdienst in de Ichthuskerk - voorganger nog niet bekend
DESCRIPTION:
URL:https://pkn-brouwershaven.nl/event/kerkdienst-in-de-ichthuskerk-voorganger-nog-niet-bekend-4/
LOCATION:Ichthuskerk Brouwershaven
END:VEVENT
BEGIN:VEVENT
DTSTART;TZID=UTC:20260308T100000
DTEND;TZID=UTC:20260308T110000
DTSTAMP:20260422T224755
CREATED:20260108T083456Z
LAST-MODIFIED:20260108T084526Z
UID:1154-1772964000-1772967600@pkn-brouwershaven.nl
SUMMARY:Kerkdienst in de Ichthuskerk - Ds. Dinie Eerland - Zierikzee
DESCRIPTION:
URL:https://pkn-brouwershaven.nl/event/kerkdienst-in-de-ichthuskerk-ds-dinie-eerland-zierikzee/
LOCATION:Ichthuskerk Brouwershaven
END:VEVENT
BEGIN:VEVENT
DTSTART;TZID=UTC:20260315T100000
DTEND;TZID=UTC:20260315T110000
DTSTAMP:20260422T224755
CREATED:20260108T083637Z
LAST-MODIFIED:20260108T084816Z
UID:1156-1773568800-1773572400@pkn-brouwershaven.nl
SUMMARY:Kerkdienst in de Ichthuskerk (Biddag) - Mw. Nieuwenhuizen - den Duk - Schiedam
DESCRIPTION:
URL:https://pkn-brouwershaven.nl/event/kerkdienst-in-de-ichthuskerk-biddag-mw-nieuwenhuizen-den-duk-schiedam/
LOCATION:Ichthuskerk Brouwershaven
END:VEVENT
BEGIN:VEVENT
DTSTART;TZID=UTC:20260322T100000
DTEND;TZID=UTC:20260322T110000
DTSTAMP:20260422T224755
CREATED:20260108T083755Z
LAST-MODIFIED:20260108T083755Z
UID:1158-1774173600-1774177200@pkn-brouwershaven.nl
SUMMARY:Kerkdienst in de Ichthuskerk - Ds. Krijn van der Jagt - Renesse
DESCRIPTION:
URL:https://pkn-brouwershaven.nl/event/kerkdienst-in-de-ichthuskerk-ds-krijn-van-der-jagt-renesse/
LOCATION:Ichthuskerk Brouwershaven
END:VEVENT
BEGIN:VEVENT
DTSTART;TZID=UTC:20260329T100000
DTEND;TZID=UTC:20260329T110000
DTSTAMP:20260422T224755
CREATED:20260108T084015Z
LAST-MODIFIED:20260108T084015Z
UID:1160-1774778400-1774782000@pkn-brouwershaven.nl
SUMMARY:Kerkdienst in de Ichthuskerk - Dhr. Wim Scholl - Vlaardingen
DESCRIPTION:
URL:https://pkn-brouwershaven.nl/event/kerkdienst-in-de-ichthuskerk-dhr-wim-scholl-vlaardingen/
LOCATION:Ichthuskerk Brouwershaven
END:VEVENT
BEGIN:VEVENT
DTSTART;TZID=UTC:20260402T190000
DTEND;TZID=UTC:20260402T200000
DTSTAMP:20260422T224755
CREATED:20260108T085056Z
LAST-MODIFIED:20260108T085056Z
UID:1167-1775156400-1775160000@pkn-brouwershaven.nl
SUMMARY:Kerkdienst in Noordgouwe (Witte donderdag) - Ds. Tim Wiersum
DESCRIPTION:
URL:https://pkn-brouwershaven.nl/event/kerkdienst-in-noordgouwe-witte-donderdag-ds-tim-wiersum/
LOCATION:Driekoningenkerk Noordgouwe
END:VEVENT
BEGIN:VEVENT
DTSTART;TZID=UTC:20260403T190000
DTEND;TZID=UTC:20260403T200000
DTSTAMP:20260422T224755
CREATED:20260108T085221Z
LAST-MODIFIED:20260108T085221Z
UID:1169-1775242800-1775246400@pkn-brouwershaven.nl
SUMMARY:Kerkdienst in de Ichthuskerk (Goede Vrijdag) - Ds. Jeannette v.d. Beukel - Zonnemaire
DESCRIPTION:
URL:https://pkn-brouwershaven.nl/event/kerkdienst-in-de-ichthuskerk-goede-vrijdag-ds-jeannette-v-d-beukel-zonnemaire/
LOCATION:Ichthuskerk Brouwershaven
END:VEVENT
BEGIN:VEVENT
DTSTART;TZID=UTC:20260404T190000
DTEND;TZID=UTC:20260404T200000
DTSTAMP:20260422T224755
CREATED:20260108T085332Z
LAST-MODIFIED:20260108T090051Z
UID:1171-1775329200-1775332800@pkn-brouwershaven.nl
SUMMARY:Kerkdienst in Zonnemaire (Stille Zaterdag) - Ds. Marian Riedijk
DESCRIPTION:
URL:https://pkn-brouwershaven.nl/event/kerkdienst-te-zonnemaire-stille-zaterdag-ds-marian-riedijk/
LOCATION:Zonnemaire
END:VEVENT
BEGIN:VEVENT
DTSTART;TZID=UTC:20260405T100000
DTEND;TZID=UTC:20260405T110000
DTSTAMP:20260422T224755
CREATED:20260108T085428Z
LAST-MODIFIED:20260108T085428Z
UID:1173-1775383200-1775386800@pkn-brouwershaven.nl
SUMMARY:Kerkdienst in de Ichthuskerk (Pasen) - Mw. Lieke Bosveld - Zierikzee
DESCRIPTION:
URL:https://pkn-brouwershaven.nl/event/kerkdienst-in-de-ichthuskerk-pasen-mw-lieke-bosveld-zierikzee/
LOCATION:Ichthuskerk Brouwershaven
END:VEVENT
BEGIN:VEVENT
DTSTART;TZID=UTC:20260412T100000
DTEND;TZID=UTC:20260412T110000
DTSTAMP:20260422T224755
CREATED:20260108T085611Z
LAST-MODIFIED:20260108T085611Z
UID:1175-1775988000-1775991600@pkn-brouwershaven.nl
SUMMARY:Kerkdienst in de Ichthuskerk (mmv Koor Laetare) - voorganger nog onbekend
DESCRIPTION:
URL:https://pkn-brouwershaven.nl/event/kerkdienst-in-de-ichthuskerk-mmv-koor-laetare-voorganger-nog-onbekend/
LOCATION:Ichthuskerk Brouwershaven
END:VEVENT
BEGIN:VEVENT
DTSTART;TZID=UTC:20260419T100000
DTEND;TZID=UTC:20260419T110000
DTSTAMP:20260422T224755
CREATED:20260108T085735Z
LAST-MODIFIED:20260108T085735Z
UID:1177-1776592800-1776596400@pkn-brouwershaven.nl
SUMMARY:Kerkdienst in de Ichthuskerk - Ds. Flip Beukenhorst - Middelburg
DESCRIPTION:
URL:https://pkn-brouwershaven.nl/event/kerkdienst-in-de-ichthuskerk-ds-flip-beukenhorst-middelburg/
LOCATION:Ichthuskerk Brouwershaven
END:VEVENT
BEGIN:VEVENT
DTSTART;TZID=UTC:20260426T100000
DTEND;TZID=UTC:20260426T110000
DTSTAMP:20260422T224755
CREATED:20260108T085851Z
LAST-MODIFIED:20260108T085851Z
UID:1179-1777197600-1777201200@pkn-brouwershaven.nl
SUMMARY:Kerkdienst in de Ichthuskerk - Mw. M. Zandbergen - Middelburg
DESCRIPTION:
URL:https://pkn-brouwershaven.nl/event/kerkdienst-in-de-ichthuskerk-mw-m-zandbergen-middelburg/
LOCATION:Ichthuskerk Brouwershaven
END:VEVENT
BEGIN:VEVENT
DTSTART;TZID=UTC:20260503T100000
DTEND;TZID=UTC:20260503T110000
DTSTAMP:20260422T224755
CREATED:20260406T141702Z
LAST-MODIFIED:20260406T141727Z
UID:1184-1777802400-1777806000@pkn-brouwershaven.nl
SUMMARY:Kerkdienst in de Ichthuskerk - Ds. C.E. Bakker - Middelharnis
DESCRIPTION:
URL:https://pkn-brouwershaven.nl/event/kerkdienst-in-de-ichthuskerk-ds-c-e-bakker-middelharnis/
LOCATION:Ichthuskerk Brouwershaven
END:VEVENT
BEGIN:VEVENT
DTSTART;TZID=UTC:20260510T100000
DTEND;TZID=UTC:20260510T110000
DTSTAMP:20260422T224755
CREATED:20260406T141825Z
LAST-MODIFIED:20260406T142356Z
UID:1186-1778407200-1778410800@pkn-brouwershaven.nl
SUMMARY:Kerkdienst in de Ichthuskerk - Ds. D. Eerland - Zierikzee
DESCRIPTION:
URL:https://pkn-brouwershaven.nl/event/kerkdienst-in-de-ichthuskerk-ds-d-eerland-zierikzee-5/
LOCATION:Ichthuskerk Brouwershaven
END:VEVENT
BEGIN:VEVENT
DTSTART;TZID=UTC:20260514T100000
DTEND;TZID=UTC:20260514T230000
DTSTAMP:20260422T224755
CREATED:20260406T141953Z
LAST-MODIFIED:20260421T130807Z
UID:1188-1778752800-1778799600@pkn-brouwershaven.nl
SUMMARY:Kerkdienst in De Nicolaas - Hemelvaartsdag - Ds. L. de Kam mmv Kathedrale Koor Utrecht
DESCRIPTION:Kathedrale klanken uit Utrecht in Zeeuwse kerken tijdens Hemelvaartsweekend\nTijdens het Hemelvaartsweekend maakt het Kathedrale Koor Utrecht (KKU) een bijzondere muzikale reis door Zeeland. In drie markante kerken brengt het koor een rijk en gevarieerd programma van liturgische koormuziek\, waarmee het publiek wordt uitgenodigd tot verstilling\, bezinning en muzikale beleving van hoog niveau. \nDe tournee begint op donderdag 14 mei om 10.00 uur met een feestelijke viering in de Protestantse Grote of St Nicolaaskerk in Brouwershaven. Op zaterdag 16 mei om 17.00 uur verzorgt het koor een sfeervolle Choral Evensong in de Grote of Maria Magdalenakerk in Goes\, een traditie geworteld in de Anglicaanse kerkmuziek. De reeks wordt afgesloten op zondag 17 mei met een viering in de Protestantse Jacobskerk in Vlissingen. \nMet deze concertreis brengt het koor niet alleen muziek\, maar ook verbinding tussen tradities\, generaties en gemeenschappen. \nEen koor met geschiedenis en een unieke klank\nHet Kathedrale Koor Utrecht is verbonden aan de Sint-Catharinakathedraal en de Kathedrale Koorschool Utrecht. Met wortels die teruggaan tot 1869 behoort het tot de oudste koren van de stad. Wat het KKU bijzonder maakt\, is de samenstelling: kinderen\, jongeren en volwassenen zingen samen en vormen één muzikaal geheel. De combinatie van jonge\, geschoolde stemmen en ervaren zangers zorgt voor een heldere\, karakteristieke klank die het koor onderscheidt. \nOnder leiding van dirigent Hester Steensma-Westra heeft het koor zich ontwikkeld tot een veelzijdig ensemble dat zowel liturgisch als concertant een hoog niveau nastreeft. Organist Wim Does\, sinds 2026 verbonden als kathedraalorganist\, begeleidt het koor en voegt met zijn internationale ervaring een extra dimensie toe aan de uitvoeringen. \nRepertoire: van traditie tot vernieuwing\nHet repertoire van het KKU is breed en rijk. Centraal staat de Nederlandse katholieke kerkmuziek van de 20e eeuw\, met werken van componisten als Hendrik Andriessen en Herman Strategier\, die nauw verbonden waren met het bisdom Utrecht. Daarnaast omvat het programma muziek uit de renaissance\, barok\, klassieke en romantische periode\, evenals hedendaagse composities. \nOok muziek uit de Anglicaanse en Lutherse traditie maakt deel uit van het repertoire\, wat onder meer tot uiting komt in de uitvoering van de Choral Evensong in Goes. \nMuziek die verbindt\nDe optredens in Zeeland vormen een uitnodiging aan kerkgangers\, muziekliefhebbers en nieuwsgierige luisteraars om deze bijzondere combinatie van traditie\, kwaliteit en bezieling te ervaren. Het Kathedrale Koor Utrecht laat horen hoe muziek generaties en religieuze verschillen overstijgt en een brug slaat tussen verleden en heden. \nIedereen is van harte welkom.
URL:https://pkn-brouwershaven.nl/event/kerkdienst-in-de-nicolaas-hemelvaartsdag-ds-l-de-kam-middelburg/
LOCATION:De Nicolaas
END:VEVENT
BEGIN:VEVENT
DTSTART;TZID=UTC:20260517T100000
DTEND;TZID=UTC:20260517T110000
DTSTAMP:20260422T224755
CREATED:20260406T142056Z
LAST-MODIFIED:20260406T142204Z
UID:1190-1779012000-1779015600@pkn-brouwershaven.nl
SUMMARY:Kerkdienst in De Nicolaas - Ds. W.T. Hollart - Noordwijk
DESCRIPTION:
URL:https://pkn-brouwershaven.nl/event/kerkdienst-in-de-nicolaas-ds-w-t-hollart-noordwijk/
LOCATION:De Nicolaas
END:VEVENT
BEGIN:VEVENT
DTSTART;TZID=UTC:20260524T100000
DTEND;TZID=UTC:20260524T110000
DTSTAMP:20260422T224755
CREATED:20260406T142610Z
LAST-MODIFIED:20260421T131049Z
UID:1192-1779616800-1779620400@pkn-brouwershaven.nl
SUMMARY:Kerkdienst in De Nicolaas - Pinksteren - Ds. W.T. Hollart mmv CantateKaravaan
DESCRIPTION:Feestelijke viering met de CantateKaravaan onder leiding van dirigent Rutger Mauritz. Organist is Marien Stouten.
URL:https://pkn-brouwershaven.nl/event/kerkdienst-in-de-nicolaas-pinksteren-ds-w-t-hollart-noordwijk/
LOCATION:De Nicolaas
END:VEVENT
BEGIN:VEVENT
DTSTART;TZID=UTC:20260531T100000
DTEND;TZID=UTC:20260531T110000
DTSTAMP:20260422T224755
CREATED:20260406T142749Z
LAST-MODIFIED:20260406T142749Z
UID:1194-1780221600-1780225200@pkn-brouwershaven.nl
SUMMARY:Kerkdienst in de Ichthuskerk - Dhr. R. Stobbelaar - Goes
DESCRIPTION:
URL:https://pkn-brouwershaven.nl/event/kerkdienst-in-de-ichthuskerk-dhr-r-stobbelaar-goes/
LOCATION:Ichthuskerk Brouwershaven
END:VEVENT
BEGIN:VEVENT
DTSTART;TZID=UTC:20260607T100000
DTEND;TZID=UTC:20260607T110000
DTSTAMP:20260422T224755
CREATED:20260406T142900Z
LAST-MODIFIED:20260406T142900Z
UID:1196-1780826400-1780830000@pkn-brouwershaven.nl
SUMMARY:Kerkdienst in De Nicolaas - Prof. Dr. J.F. Goud - Den Haag
DESCRIPTION:
URL:https://pkn-brouwershaven.nl/event/kerkdienst-in-de-nicolaas-prof-dr-j-f-goud-den-haag/
LOCATION:De Nicolaas
END:VEVENT
BEGIN:VEVENT
DTSTART;TZID=UTC:20260614T100000
DTEND;TZID=UTC:20260614T110000
DTSTAMP:20260422T224755
CREATED:20260406T143043Z
LAST-MODIFIED:20260406T143043Z
UID:1198-1781431200-1781434800@pkn-brouwershaven.nl
SUMMARY:Kerkdienst in De Nicolaas - Mr. A. Meiresonne - Den Haag
DESCRIPTION:
URL:https://pkn-brouwershaven.nl/event/kerkdienst-in-de-nicolaas-mr-a-meiresonne-den-haag-2/
LOCATION:De Nicolaas
END:VEVENT
END:VCALENDAR