BEGIN:VCALENDAR
VERSION:2.0
PRODID:-//Protestantse Gemeente te Brouwershaven - ECPv6.8.3//NONSGML v1.0//EN
CALSCALE:GREGORIAN
METHOD:PUBLISH
X-WR-CALNAME:Protestantse Gemeente te Brouwershaven
X-ORIGINAL-URL:https://pkn-brouwershaven.nl
X-WR-CALDESC:Evenementen voor Protestantse Gemeente te Brouwershaven
REFRESH-INTERVAL;VALUE=DURATION:PT1H
X-Robots-Tag:noindex
X-PUBLISHED-TTL:PT1H
BEGIN:VTIMEZONE
TZID:UTC
BEGIN:STANDARD
TZOFFSETFROM:+0000
TZOFFSETTO:+0000
TZNAME:UTC
DTSTART:20260101T000000
END:STANDARD
END:VTIMEZONE
BEGIN:VEVENT
DTSTART;TZID=UTC:20260404T190000
DTEND;TZID=UTC:20260404T200000
DTSTAMP:20260421T192339
CREATED:20260108T085332Z
LAST-MODIFIED:20260108T090051Z
UID:1171-1775329200-1775332800@pkn-brouwershaven.nl
SUMMARY:Kerkdienst in Zonnemaire (Stille Zaterdag) - Ds. Marian Riedijk
DESCRIPTION:
URL:https://pkn-brouwershaven.nl/event/kerkdienst-te-zonnemaire-stille-zaterdag-ds-marian-riedijk/
LOCATION:Zonnemaire
END:VEVENT
BEGIN:VEVENT
DTSTART;TZID=UTC:20260405T100000
DTEND;TZID=UTC:20260405T110000
DTSTAMP:20260421T192339
CREATED:20260108T085428Z
LAST-MODIFIED:20260108T085428Z
UID:1173-1775383200-1775386800@pkn-brouwershaven.nl
SUMMARY:Kerkdienst in de Ichthuskerk (Pasen) - Mw. Lieke Bosveld - Zierikzee
DESCRIPTION:
URL:https://pkn-brouwershaven.nl/event/kerkdienst-in-de-ichthuskerk-pasen-mw-lieke-bosveld-zierikzee/
LOCATION:Ichthuskerk Brouwershaven
END:VEVENT
BEGIN:VEVENT
DTSTART;TZID=UTC:20260412T100000
DTEND;TZID=UTC:20260412T110000
DTSTAMP:20260421T192339
CREATED:20260108T085611Z
LAST-MODIFIED:20260108T085611Z
UID:1175-1775988000-1775991600@pkn-brouwershaven.nl
SUMMARY:Kerkdienst in de Ichthuskerk (mmv Koor Laetare) - voorganger nog onbekend
DESCRIPTION:
URL:https://pkn-brouwershaven.nl/event/kerkdienst-in-de-ichthuskerk-mmv-koor-laetare-voorganger-nog-onbekend/
LOCATION:Ichthuskerk Brouwershaven
END:VEVENT
BEGIN:VEVENT
DTSTART;TZID=UTC:20260419T100000
DTEND;TZID=UTC:20260419T110000
DTSTAMP:20260421T192339
CREATED:20260108T085735Z
LAST-MODIFIED:20260108T085735Z
UID:1177-1776592800-1776596400@pkn-brouwershaven.nl
SUMMARY:Kerkdienst in de Ichthuskerk - Ds. Flip Beukenhorst - Middelburg
DESCRIPTION:
URL:https://pkn-brouwershaven.nl/event/kerkdienst-in-de-ichthuskerk-ds-flip-beukenhorst-middelburg/
LOCATION:Ichthuskerk Brouwershaven
END:VEVENT
BEGIN:VEVENT
DTSTART;TZID=UTC:20260426T100000
DTEND;TZID=UTC:20260426T110000
DTSTAMP:20260421T192339
CREATED:20260108T085851Z
LAST-MODIFIED:20260108T085851Z
UID:1179-1777197600-1777201200@pkn-brouwershaven.nl
SUMMARY:Kerkdienst in de Ichthuskerk - Mw. M. Zandbergen - Middelburg
DESCRIPTION:
URL:https://pkn-brouwershaven.nl/event/kerkdienst-in-de-ichthuskerk-mw-m-zandbergen-middelburg/
LOCATION:Ichthuskerk Brouwershaven
END:VEVENT
BEGIN:VEVENT
DTSTART;TZID=UTC:20260503T100000
DTEND;TZID=UTC:20260503T110000
DTSTAMP:20260421T192339
CREATED:20260406T141702Z
LAST-MODIFIED:20260406T141727Z
UID:1184-1777802400-1777806000@pkn-brouwershaven.nl
SUMMARY:Kerkdienst in de Ichthuskerk - Ds. C.E. Bakker - Middelharnis
DESCRIPTION:
URL:https://pkn-brouwershaven.nl/event/kerkdienst-in-de-ichthuskerk-ds-c-e-bakker-middelharnis/
LOCATION:Ichthuskerk Brouwershaven
END:VEVENT
BEGIN:VEVENT
DTSTART;TZID=UTC:20260510T100000
DTEND;TZID=UTC:20260510T110000
DTSTAMP:20260421T192339
CREATED:20260406T141825Z
LAST-MODIFIED:20260406T142356Z
UID:1186-1778407200-1778410800@pkn-brouwershaven.nl
SUMMARY:Kerkdienst in de Ichthuskerk - Ds. D. Eerland - Zierikzee
DESCRIPTION:
URL:https://pkn-brouwershaven.nl/event/kerkdienst-in-de-ichthuskerk-ds-d-eerland-zierikzee-5/
LOCATION:Ichthuskerk Brouwershaven
END:VEVENT
BEGIN:VEVENT
DTSTART;TZID=UTC:20260514T100000
DTEND;TZID=UTC:20260514T230000
DTSTAMP:20260421T192339
CREATED:20260406T141953Z
LAST-MODIFIED:20260421T130807Z
UID:1188-1778752800-1778799600@pkn-brouwershaven.nl
SUMMARY:Kerkdienst in De Nicolaas - Hemelvaartsdag - Ds. L. de Kam mmv Kathedrale Koor Utrecht
DESCRIPTION:Kathedrale klanken uit Utrecht in Zeeuwse kerken tijdens Hemelvaartsweekend\nTijdens het Hemelvaartsweekend maakt het Kathedrale Koor Utrecht (KKU) een bijzondere muzikale reis door Zeeland. In drie markante kerken brengt het koor een rijk en gevarieerd programma van liturgische koormuziek\, waarmee het publiek wordt uitgenodigd tot verstilling\, bezinning en muzikale beleving van hoog niveau. \nDe tournee begint op donderdag 14 mei om 10.00 uur met een feestelijke viering in de Protestantse Grote of St Nicolaaskerk in Brouwershaven. Op zaterdag 16 mei om 17.00 uur verzorgt het koor een sfeervolle Choral Evensong in de Grote of Maria Magdalenakerk in Goes\, een traditie geworteld in de Anglicaanse kerkmuziek. De reeks wordt afgesloten op zondag 17 mei met een viering in de Protestantse Jacobskerk in Vlissingen. \nMet deze concertreis brengt het koor niet alleen muziek\, maar ook verbinding tussen tradities\, generaties en gemeenschappen. \nEen koor met geschiedenis en een unieke klank\nHet Kathedrale Koor Utrecht is verbonden aan de Sint-Catharinakathedraal en de Kathedrale Koorschool Utrecht. Met wortels die teruggaan tot 1869 behoort het tot de oudste koren van de stad. Wat het KKU bijzonder maakt\, is de samenstelling: kinderen\, jongeren en volwassenen zingen samen en vormen één muzikaal geheel. De combinatie van jonge\, geschoolde stemmen en ervaren zangers zorgt voor een heldere\, karakteristieke klank die het koor onderscheidt. \nOnder leiding van dirigent Hester Steensma-Westra heeft het koor zich ontwikkeld tot een veelzijdig ensemble dat zowel liturgisch als concertant een hoog niveau nastreeft. Organist Wim Does\, sinds 2026 verbonden als kathedraalorganist\, begeleidt het koor en voegt met zijn internationale ervaring een extra dimensie toe aan de uitvoeringen. \nRepertoire: van traditie tot vernieuwing\nHet repertoire van het KKU is breed en rijk. Centraal staat de Nederlandse katholieke kerkmuziek van de 20e eeuw\, met werken van componisten als Hendrik Andriessen en Herman Strategier\, die nauw verbonden waren met het bisdom Utrecht. Daarnaast omvat het programma muziek uit de renaissance\, barok\, klassieke en romantische periode\, evenals hedendaagse composities. \nOok muziek uit de Anglicaanse en Lutherse traditie maakt deel uit van het repertoire\, wat onder meer tot uiting komt in de uitvoering van de Choral Evensong in Goes. \nMuziek die verbindt\nDe optredens in Zeeland vormen een uitnodiging aan kerkgangers\, muziekliefhebbers en nieuwsgierige luisteraars om deze bijzondere combinatie van traditie\, kwaliteit en bezieling te ervaren. Het Kathedrale Koor Utrecht laat horen hoe muziek generaties en religieuze verschillen overstijgt en een brug slaat tussen verleden en heden. \nIedereen is van harte welkom.
URL:https://pkn-brouwershaven.nl/event/kerkdienst-in-de-nicolaas-hemelvaartsdag-ds-l-de-kam-middelburg/
LOCATION:De Nicolaas
END:VEVENT
BEGIN:VEVENT
DTSTART;TZID=UTC:20260517T100000
DTEND;TZID=UTC:20260517T110000
DTSTAMP:20260421T192339
CREATED:20260406T142056Z
LAST-MODIFIED:20260406T142204Z
UID:1190-1779012000-1779015600@pkn-brouwershaven.nl
SUMMARY:Kerkdienst in De Nicolaas - Ds. W.T. Hollart - Noordwijk
DESCRIPTION:
URL:https://pkn-brouwershaven.nl/event/kerkdienst-in-de-nicolaas-ds-w-t-hollart-noordwijk/
LOCATION:De Nicolaas
END:VEVENT
BEGIN:VEVENT
DTSTART;TZID=UTC:20260524T100000
DTEND;TZID=UTC:20260524T110000
DTSTAMP:20260421T192339
CREATED:20260406T142610Z
LAST-MODIFIED:20260421T131049Z
UID:1192-1779616800-1779620400@pkn-brouwershaven.nl
SUMMARY:Kerkdienst in De Nicolaas - Pinksteren - Ds. W.T. Hollart mmv CantateKaravaan
DESCRIPTION:Feestelijke viering met de CantateKaravaan onder leiding van dirigent Rutger Mauritz. Organist is Marien Stouten.
URL:https://pkn-brouwershaven.nl/event/kerkdienst-in-de-nicolaas-pinksteren-ds-w-t-hollart-noordwijk/
LOCATION:De Nicolaas
END:VEVENT
BEGIN:VEVENT
DTSTART;TZID=UTC:20260531T100000
DTEND;TZID=UTC:20260531T110000
DTSTAMP:20260421T192339
CREATED:20260406T142749Z
LAST-MODIFIED:20260406T142749Z
UID:1194-1780221600-1780225200@pkn-brouwershaven.nl
SUMMARY:Kerkdienst in de Ichthuskerk - Dhr. R. Stobbelaar - Goes
DESCRIPTION:
URL:https://pkn-brouwershaven.nl/event/kerkdienst-in-de-ichthuskerk-dhr-r-stobbelaar-goes/
LOCATION:Ichthuskerk Brouwershaven
END:VEVENT
BEGIN:VEVENT
DTSTART;TZID=UTC:20260607T100000
DTEND;TZID=UTC:20260607T110000
DTSTAMP:20260421T192339
CREATED:20260406T142900Z
LAST-MODIFIED:20260406T142900Z
UID:1196-1780826400-1780830000@pkn-brouwershaven.nl
SUMMARY:Kerkdienst in De Nicolaas - Prof. Dr. J.F. Goud - Den Haag
DESCRIPTION:
URL:https://pkn-brouwershaven.nl/event/kerkdienst-in-de-nicolaas-prof-dr-j-f-goud-den-haag/
LOCATION:De Nicolaas
END:VEVENT
BEGIN:VEVENT
DTSTART;TZID=UTC:20260614T100000
DTEND;TZID=UTC:20260614T110000
DTSTAMP:20260421T192339
CREATED:20260406T143043Z
LAST-MODIFIED:20260406T143043Z
UID:1198-1781431200-1781434800@pkn-brouwershaven.nl
SUMMARY:Kerkdienst in De Nicolaas - Mr. A. Meiresonne - Den Haag
DESCRIPTION:
URL:https://pkn-brouwershaven.nl/event/kerkdienst-in-de-nicolaas-mr-a-meiresonne-den-haag-2/
LOCATION:De Nicolaas
END:VEVENT
BEGIN:VEVENT
DTSTART;TZID=UTC:20260621T100000
DTEND;TZID=UTC:20260621T110000
DTSTAMP:20260421T192339
CREATED:20260406T143140Z
LAST-MODIFIED:20260406T143140Z
UID:1200-1782036000-1782039600@pkn-brouwershaven.nl
SUMMARY:Kerkdienst in De Nicolaas - Dr. P.H.H.M. Galama - Breda
DESCRIPTION:
URL:https://pkn-brouwershaven.nl/event/kerkdienst-in-de-nicolaas-dr-p-h-h-m-galama-breda/
LOCATION:De Nicolaas
END:VEVENT
BEGIN:VEVENT
DTSTART;TZID=UTC:20260628T100000
DTEND;TZID=UTC:20260628T110000
DTSTAMP:20260421T192339
CREATED:20260406T143241Z
LAST-MODIFIED:20260406T143241Z
UID:1202-1782640800-1782644400@pkn-brouwershaven.nl
SUMMARY:Buitendienst Zonnemaire
DESCRIPTION:
URL:https://pkn-brouwershaven.nl/event/buitendienst-zonnemaire/
END:VEVENT
BEGIN:VEVENT
DTSTART;TZID=UTC:20260705T100000
DTEND;TZID=UTC:20260705T110000
DTSTAMP:20260421T192339
CREATED:20260406T143356Z
LAST-MODIFIED:20260406T143356Z
UID:1204-1783245600-1783249200@pkn-brouwershaven.nl
SUMMARY:Kerkdienst in De Nicolaas - Heilig Avondmaal - Ds. K.A\, van der Jagt - Renesse
DESCRIPTION:
URL:https://pkn-brouwershaven.nl/event/kerkdienst-in-de-nicolaas-heilig-avondmaal-ds-k-a-van-der-jagt-renesse/
LOCATION:De Nicolaas
END:VEVENT
END:VCALENDAR