BEGIN:VCALENDAR
VERSION:2.0
PRODID:-//Protestantse Gemeente te Brouwershaven - ECPv6.8.3//NONSGML v1.0//EN
CALSCALE:GREGORIAN
METHOD:PUBLISH
X-ORIGINAL-URL:https://pkn-brouwershaven.nl
X-WR-CALDESC:Evenementen voor Protestantse Gemeente te Brouwershaven
REFRESH-INTERVAL;VALUE=DURATION:PT1H
X-Robots-Tag:noindex
X-PUBLISHED-TTL:PT1H
BEGIN:VTIMEZONE
TZID:UTC
BEGIN:STANDARD
TZOFFSETFROM:+0000
TZOFFSETTO:+0000
TZNAME:UTC
DTSTART:20210101T000000
END:STANDARD
END:VTIMEZONE
BEGIN:VEVENT
DTSTART;TZID=UTC:20211107T100000
DTEND;TZID=UTC:20211107T110000
DTSTAMP:20260425T004101
CREATED:20211016T164651Z
LAST-MODIFIED:20211016T164651Z
UID:453-1636279200-1636282800@pkn-brouwershaven.nl
SUMMARY:Kerkdienst in de Ichthuskerk - Theo van Teijlingen
DESCRIPTION:
URL:https://pkn-brouwershaven.nl/event/kerkdienst-in-de-ichthuskerk-theo-van-teijlingen/
END:VEVENT
BEGIN:VEVENT
DTSTART;TZID=UTC:20211114T100000
DTEND;TZID=UTC:20211114T110000
DTSTAMP:20260425T004101
CREATED:20211016T164911Z
LAST-MODIFIED:20211016T164911Z
UID:455-1636884000-1636887600@pkn-brouwershaven.nl
SUMMARY:Kerkdienst in de Ichthuskerk - Dankdag - Pastor Joëlle Kooman
DESCRIPTION:
URL:https://pkn-brouwershaven.nl/event/kerkdienst-in-de-ichthuskerk-dankdag-pastor-joelle-kooman/
END:VEVENT
BEGIN:VEVENT
DTSTART;TZID=UTC:20211121T100000
DTEND;TZID=UTC:20211121T110000
DTSTAMP:20260425T004101
CREATED:20211016T165116Z
LAST-MODIFIED:20211016T165116Z
UID:457-1637488800-1637492400@pkn-brouwershaven.nl
SUMMARY:Kerkdienst in De Nicolaas- Gedachtenisdienst - Pastor Joëlle Kooman
DESCRIPTION:
URL:https://pkn-brouwershaven.nl/event/kerkdienst-in-de-nicolaas-gedachtenisdienst-pastor-joelle-kooman/
END:VEVENT
BEGIN:VEVENT
DTSTART;TZID=UTC:20211128T100000
DTEND;TZID=UTC:20211128T110000
DTSTAMP:20260425T004101
CREATED:20211016T165235Z
LAST-MODIFIED:20211016T165235Z
UID:459-1638093600-1638097200@pkn-brouwershaven.nl
SUMMARY:Kerkdienst in de Ichthuskerk - Ds. Rob Maas  Rotterdam
DESCRIPTION:
URL:https://pkn-brouwershaven.nl/event/kerkdienst-in-de-ichthuskerk-ds-rob-maas-rotterdam/
END:VEVENT
END:VCALENDAR