BEGIN:VCALENDAR
VERSION:2.0
PRODID:-//Protestantse Gemeente te Brouwershaven - ECPv6.8.3//NONSGML v1.0//EN
CALSCALE:GREGORIAN
METHOD:PUBLISH
X-WR-CALNAME:Protestantse Gemeente te Brouwershaven
X-ORIGINAL-URL:https://pkn-brouwershaven.nl
X-WR-CALDESC:Evenementen voor Protestantse Gemeente te Brouwershaven
REFRESH-INTERVAL;VALUE=DURATION:PT1H
X-Robots-Tag:noindex
X-PUBLISHED-TTL:PT1H
BEGIN:VTIMEZONE
TZID:UTC
BEGIN:STANDARD
TZOFFSETFROM:+0000
TZOFFSETTO:+0000
TZNAME:UTC
DTSTART:20220101T000000
END:STANDARD
END:VTIMEZONE
BEGIN:VEVENT
DTSTART;TZID=UTC:20220306T100000
DTEND;TZID=UTC:20220306T110000
DTSTAMP:20260424T125232
CREATED:20211207T160446Z
LAST-MODIFIED:20211207T160446Z
UID:529-1646560800-1646564400@pkn-brouwershaven.nl
SUMMARY:Kerkdienst in de Ichthuskerk - Pastor Joëlle Kooman
DESCRIPTION:
URL:https://pkn-brouwershaven.nl/event/kerkdienst-in-de-ichthuskerk-pastor-joelle-kooman-4/
END:VEVENT
BEGIN:VEVENT
DTSTART;TZID=UTC:20220313T100000
DTEND;TZID=UTC:20220313T110000
DTSTAMP:20260424T125232
CREATED:20211207T160548Z
LAST-MODIFIED:20211207T160548Z
UID:531-1647165600-1647169200@pkn-brouwershaven.nl
SUMMARY:Kerkdienst in de Ichthuskerk (Biddag) - Ds. Bertien van Ginhoven
DESCRIPTION:
URL:https://pkn-brouwershaven.nl/event/kerkdienst-in-de-ichthuskerk-biddag-ds-bertien-van-ginhoven/
END:VEVENT
BEGIN:VEVENT
DTSTART;TZID=UTC:20220320T100000
DTEND;TZID=UTC:20220320T110000
DTSTAMP:20260424T125232
CREATED:20211207T160650Z
LAST-MODIFIED:20211207T160650Z
UID:533-1647770400-1647774000@pkn-brouwershaven.nl
SUMMARY:Kerkdienst in de Ichthuskerk - Ds. Guido Sinke
DESCRIPTION:
URL:https://pkn-brouwershaven.nl/event/kerkdienst-in-de-ichthuskerk-ds-guido-sinke/
END:VEVENT
BEGIN:VEVENT
DTSTART;TZID=UTC:20220327T100000
DTEND;TZID=UTC:20220327T110000
DTSTAMP:20260424T125232
CREATED:20211207T160741Z
LAST-MODIFIED:20211207T160741Z
UID:535-1648375200-1648378800@pkn-brouwershaven.nl
SUMMARY:Gezamenlijke dienst in Zonnemaire - Ds. Marjan Riedijk
DESCRIPTION:
URL:https://pkn-brouwershaven.nl/event/gezamenlijke-dienst-in-zonnemaire-ds-marjan-riedijk/
END:VEVENT
END:VCALENDAR