BEGIN:VCALENDAR
VERSION:2.0
PRODID:-//Protestantse Gemeente te Brouwershaven - ECPv6.8.3//NONSGML v1.0//EN
CALSCALE:GREGORIAN
METHOD:PUBLISH
X-ORIGINAL-URL:https://pkn-brouwershaven.nl
X-WR-CALDESC:Evenementen voor Protestantse Gemeente te Brouwershaven
REFRESH-INTERVAL;VALUE=DURATION:PT1H
X-Robots-Tag:noindex
X-PUBLISHED-TTL:PT1H
BEGIN:VTIMEZONE
TZID:UTC
BEGIN:STANDARD
TZOFFSETFROM:+0000
TZOFFSETTO:+0000
TZNAME:UTC
DTSTART:20220101T000000
END:STANDARD
END:VTIMEZONE
BEGIN:VEVENT
DTSTART;TZID=UTC:20220501T100000
DTEND;TZID=UTC:20220501T110000
DTSTAMP:20260424T093936
CREATED:20220322T075641Z
LAST-MODIFIED:20220322T075641Z
UID:549-1651399200-1651402800@pkn-brouwershaven.nl
SUMMARY:Kerkdienst in de Ichthuskerk - Pastor Joëlle Kooman
DESCRIPTION:
URL:https://pkn-brouwershaven.nl/event/kerkdienst-in-de-ichthuskerk-pastor-joelle-kooman-6/
LOCATION:Ichthuskerk Brouwershaven
END:VEVENT
BEGIN:VEVENT
DTSTART;TZID=UTC:20220508T100000
DTEND;TZID=UTC:20220508T110000
DTSTAMP:20260424T093937
CREATED:20220322T075745Z
LAST-MODIFIED:20220322T075745Z
UID:551-1652004000-1652007600@pkn-brouwershaven.nl
SUMMARY:Kerkdienst in de Ichthuskerk - Dhr. Rob de Raad
DESCRIPTION:
URL:https://pkn-brouwershaven.nl/event/kerkdienst-in-de-ichthuskerk-dhr-rob-de-raad/
LOCATION:Ichthuskerk Brouwershaven
END:VEVENT
BEGIN:VEVENT
DTSTART;TZID=UTC:20220515T100000
DTEND;TZID=UTC:20220515T110000
DTSTAMP:20260424T093937
CREATED:20220322T075912Z
LAST-MODIFIED:20220322T075912Z
UID:553-1652608800-1652612400@pkn-brouwershaven.nl
SUMMARY:Kerkdienst in de Ichthuskerk - Pastor Joëlle Kooman
DESCRIPTION:
URL:https://pkn-brouwershaven.nl/event/kerkdienst-in-de-ichthuskerk-pastor-joelle-kooman-7/
LOCATION:Ichthuskerk Brouwershaven
END:VEVENT
BEGIN:VEVENT
DTSTART;TZID=UTC:20220515T100000
DTEND;TZID=UTC:20220515T110000
DTSTAMP:20260424T093937
CREATED:20220515T120949Z
LAST-MODIFIED:20220515T120949Z
UID:575-1652608800-1652612400@pkn-brouwershaven.nl
SUMMARY:Kerkdienst in De Nicolaas - Pastor Joëlle Kooman
DESCRIPTION:
URL:https://pkn-brouwershaven.nl/event/kerkdienst-in-de-nicolaas-pastor-joelle-kooman-4/
END:VEVENT
BEGIN:VEVENT
DTSTART;TZID=UTC:20220515T100000
DTEND;TZID=UTC:20220515T110000
DTSTAMP:20260424T093937
CREATED:20220515T121050Z
LAST-MODIFIED:20220515T121050Z
UID:577-1652608800-1652612400@pkn-brouwershaven.nl
SUMMARY:Kerkdienst in De Nicolaas - Pastor Joëlle Kooman
DESCRIPTION:
URL:https://pkn-brouwershaven.nl/event/kerkdienst-in-de-nicolaas-pastor-joelle-kooman-5/
END:VEVENT
BEGIN:VEVENT
DTSTART;TZID=UTC:20220522T100000
DTEND;TZID=UTC:20220522T110000
DTSTAMP:20260424T093937
CREATED:20220515T120457Z
LAST-MODIFIED:20220515T120543Z
UID:568-1653213600-1653217200@pkn-brouwershaven.nl
SUMMARY:Kerkdienst in de Ichthuskerk - Ds. Dinie Eerland
DESCRIPTION:
URL:https://pkn-brouwershaven.nl/event/kerkdienst-ds-dinie-eerland/
END:VEVENT
BEGIN:VEVENT
DTSTART;TZID=UTC:20220526T100000
DTEND;TZID=UTC:20220526T110000
DTSTAMP:20260424T093937
CREATED:20220515T120726Z
LAST-MODIFIED:20220515T120726Z
UID:571-1653559200-1653562800@pkn-brouwershaven.nl
SUMMARY:Kerkdienst in Noordgouwe - Pastor Joëlle Kooman
DESCRIPTION:
URL:https://pkn-brouwershaven.nl/event/kerkdienst-in-noordgouwe-pastor-joelle-kooman/
END:VEVENT
BEGIN:VEVENT
DTSTART;TZID=UTC:20220529T100000
DTEND;TZID=UTC:20220529T110000
DTSTAMP:20260424T093937
CREATED:20220515T120849Z
LAST-MODIFIED:20220515T120849Z
UID:573-1653818400-1653822000@pkn-brouwershaven.nl
SUMMARY:Kerkdienst in Dreischor - Dhr. Mar v.d. Veer
DESCRIPTION:
URL:https://pkn-brouwershaven.nl/event/kerkdienst-in-dreischor-dhr-mar-v-d-veer/
END:VEVENT
END:VCALENDAR