BEGIN:VCALENDAR
VERSION:2.0
PRODID:-//Protestantse Gemeente te Brouwershaven - ECPv6.8.3//NONSGML v1.0//EN
CALSCALE:GREGORIAN
METHOD:PUBLISH
X-ORIGINAL-URL:https://pkn-brouwershaven.nl
X-WR-CALDESC:Evenementen voor Protestantse Gemeente te Brouwershaven
REFRESH-INTERVAL;VALUE=DURATION:PT1H
X-Robots-Tag:noindex
X-PUBLISHED-TTL:PT1H
BEGIN:VTIMEZONE
TZID:UTC
BEGIN:STANDARD
TZOFFSETFROM:+0000
TZOFFSETTO:+0000
TZNAME:UTC
DTSTART:20220101T000000
END:STANDARD
END:VTIMEZONE
BEGIN:VEVENT
DTSTART;TZID=UTC:20220605T100000
DTEND;TZID=UTC:20220605T110000
DTSTAMP:20260424T080537
CREATED:20220515T121435Z
LAST-MODIFIED:20220515T121435Z
UID:581-1654423200-1654426800@pkn-brouwershaven.nl
SUMMARY:Kerkdienst in De Nicolaas - Pastor Joëlle Kooman
DESCRIPTION:
URL:https://pkn-brouwershaven.nl/event/kerkdienst-in-de-nicolaas-pastor-joelle-kooman-6/
END:VEVENT
BEGIN:VEVENT
DTSTART;TZID=UTC:20220612T100000
DTEND;TZID=UTC:20220612T110000
DTSTAMP:20260424T080537
CREATED:20220515T121544Z
LAST-MODIFIED:20220515T121544Z
UID:583-1655028000-1655031600@pkn-brouwershaven.nl
SUMMARY:Kerkdienst in De Nicolaas - Pastor Joëlle Kooman
DESCRIPTION:
URL:https://pkn-brouwershaven.nl/event/kerkdienst-in-de-nicolaas-pastor-joelle-kooman-7/
END:VEVENT
BEGIN:VEVENT
DTSTART;TZID=UTC:20220619T100000
DTEND;TZID=UTC:20220619T110000
DTSTAMP:20260424T080537
CREATED:20220515T121144Z
LAST-MODIFIED:20220515T121213Z
UID:579-1655632800-1655636400@pkn-brouwershaven.nl
SUMMARY:Kerkdienst in De Nicolaas - Ds. Leuny de Kam
DESCRIPTION:
URL:https://pkn-brouwershaven.nl/event/kerkdienst-in-de-nicolaas-ds-leuny-de-kam/
END:VEVENT
BEGIN:VEVENT
DTSTART;TZID=UTC:20220626T100000
DTEND;TZID=UTC:20220626T110000
DTSTAMP:20260424T080537
CREATED:20220515T121714Z
LAST-MODIFIED:20220515T121714Z
UID:585-1656237600-1656241200@pkn-brouwershaven.nl
SUMMARY:Kerkdienst in Noordgouwe - Ds. Sinke - met koor De Sjofar
DESCRIPTION:
URL:https://pkn-brouwershaven.nl/event/kerkdienst-in-noordgouwe-ds-sinke-met-koor-de-sjofar/
END:VEVENT
END:VCALENDAR